BEGIN:VCALENDAR
VERSION:2.0
PRODID:-//Leon Classroom Teachers Association - ECPv6.15.20//NONSGML v1.0//EN
CALSCALE:GREGORIAN
METHOD:PUBLISH
X-ORIGINAL-URL:https://leonteachers.org
X-WR-CALDESC:Events for Leon Classroom Teachers Association
REFRESH-INTERVAL;VALUE=DURATION:PT1H
X-Robots-Tag:noindex
X-PUBLISHED-TTL:PT1H
BEGIN:VTIMEZONE
TZID:UTC
BEGIN:STANDARD
TZOFFSETFROM:+0000
TZOFFSETTO:+0000
TZNAME:UTC
DTSTART:20240101T000000
END:STANDARD
END:VTIMEZONE
BEGIN:VTIMEZONE
TZID:America/New_York
BEGIN:DAYLIGHT
TZOFFSETFROM:-0500
TZOFFSETTO:-0400
TZNAME:EDT
DTSTART:20250309T070000
END:DAYLIGHT
BEGIN:STANDARD
TZOFFSETFROM:-0400
TZOFFSETTO:-0500
TZNAME:EST
DTSTART:20251102T060000
END:STANDARD
BEGIN:DAYLIGHT
TZOFFSETFROM:-0500
TZOFFSETTO:-0400
TZNAME:EDT
DTSTART:20260308T070000
END:DAYLIGHT
BEGIN:STANDARD
TZOFFSETFROM:-0400
TZOFFSETTO:-0500
TZNAME:EST
DTSTART:20261101T060000
END:STANDARD
BEGIN:DAYLIGHT
TZOFFSETFROM:-0500
TZOFFSETTO:-0400
TZNAME:EDT
DTSTART:20270314T070000
END:DAYLIGHT
BEGIN:STANDARD
TZOFFSETFROM:-0400
TZOFFSETTO:-0500
TZNAME:EST
DTSTART:20271107T060000
END:STANDARD
END:VTIMEZONE
BEGIN:VEVENT
DTSTART;VALUE=DATE:20251229
DTEND;VALUE=DATE:20260103
DTSTAMP:20260424T151448
CREATED:20250707T203139Z
LAST-MODIFIED:20250707T203201Z
UID:3466-1766966400-1767398399@leonteachers.org
SUMMARY:NO SCHOOL
DESCRIPTION:
URL:https://leonteachers.org/event/no-school-4/
END:VEVENT
BEGIN:VEVENT
DTSTART;TZID=America/New_York:20260106T170000
DTEND;TZID=America/New_York:20260106T183000
DTSTAMP:20260424T151448
CREATED:20260114T150121Z
LAST-MODIFIED:20260114T150121Z
UID:3670-1767718800-1767724200@leonteachers.org
SUMMARY:LCTA BOD Meeting
DESCRIPTION:
URL:https://leonteachers.org/event/lcta-bod-meeting-39/
LOCATION:LCTA Office\, 2655 Capital Cir NE # 8\, Tallahassee\, FL\, 32308\, United States
END:VEVENT
BEGIN:VEVENT
DTSTART;VALUE=DATE:20260107
DTEND;VALUE=DATE:20260108
DTSTAMP:20260424T151448
CREATED:20260114T150744Z
LAST-MODIFIED:20260114T150744Z
UID:3680-1767744000-1767830399@leonteachers.org
SUMMARY:Internal Election Announcement
DESCRIPTION:
URL:https://leonteachers.org/event/internal-election-announcement/
END:VEVENT
BEGIN:VEVENT
DTSTART;TZID=America/New_York:20260108T180000
DTEND;TZID=America/New_York:20260108T200000
DTSTAMP:20260424T151448
CREATED:20260114T151143Z
LAST-MODIFIED:20260114T151143Z
UID:3687-1767895200-1767902400@leonteachers.org
SUMMARY:District Advisory Council Meeting
DESCRIPTION:
URL:https://leonteachers.org/event/district-advisory-council-meeting-6/
LOCATION:Aquilina Howell Center\, 3955 W Pensacola St\, Tallahassee\, FL\, 32304
END:VEVENT
BEGIN:VEVENT
DTSTART;VALUE=DATE:20260109
DTEND;VALUE=DATE:20260110
DTSTAMP:20260424T151448
CREATED:20260114T150852Z
LAST-MODIFIED:20260114T151019Z
UID:3682-1767916800-1768003199@leonteachers.org
SUMMARY:Nominations Open for LCTA Officers
DESCRIPTION:President \nVice-President \nTreasurer \nDistrict 4
URL:https://leonteachers.org/event/open-nominations-for-lcta-officers/
END:VEVENT
BEGIN:VEVENT
DTSTART;TZID=America/New_York:20260112T150000
DTEND;TZID=America/New_York:20260112T170000
DTSTAMP:20260424T151448
CREATED:20260114T151221Z
LAST-MODIFIED:20260114T151221Z
UID:3689-1768230000-1768237200@leonteachers.org
SUMMARY:LCSB Agenda Review
DESCRIPTION:
URL:https://leonteachers.org/event/lcsb-agenda-review/
LOCATION:Aquilina Howell Center\, 3955 W Pensacola St\, Tallahassee\, FL\, 32304
END:VEVENT
BEGIN:VEVENT
DTSTART;TZID=America/New_York:20260113T173000
DTEND;TZID=America/New_York:20260113T183000
DTSTAMP:20260424T151448
CREATED:20260114T180803Z
LAST-MODIFIED:20260114T180803Z
UID:3752-1768325400-1768329000@leonteachers.org
SUMMARY:FEA Power Hours
DESCRIPTION:Contact Scott.Mazur@floridaea.org for a registration link.
URL:https://leonteachers.org/event/fea-power-hours/
END:VEVENT
BEGIN:VEVENT
DTSTART;TZID=America/New_York:20260113T180000
DTEND;TZID=America/New_York:20260113T200000
DTSTAMP:20260424T151448
CREATED:20260114T151327Z
LAST-MODIFIED:20260114T175517Z
UID:3691-1768327200-1768334400@leonteachers.org
SUMMARY:LCSB Meeting
DESCRIPTION:
URL:https://leonteachers.org/event/lcsb-meeting-21/
LOCATION:Aquilina Howell Center\, 3955 W Pensacola St\, Tallahassee\, FL\, 32304
END:VEVENT
BEGIN:VEVENT
DTSTART;TZID=America/New_York:20260114T153000
DTEND;TZID=America/New_York:20260114T163000
DTSTAMP:20260424T151448
CREATED:20260114T151537Z
LAST-MODIFIED:20260114T151537Z
UID:3693-1768404600-1768408200@leonteachers.org
SUMMARY:LCS Sustainability Committee Meeting
DESCRIPTION:Microsoft Teams – Join the meeting now Meeting ID: 221 140 452 046 8 Passcode: Ag3Fv95n Dial in by phone +1 850-988-5139\,\,354083368# United States\, Cantonment Find a local number Phone conference ID: 354 083 368# For organizers: Meeting options | Reset dial-in PIN ________________________________________________________________________________Agenda-Sustainability Committee-01-14-26.pdfLCS Sustainability 10.08.25 Committee Meeting Minutes.pdf
URL:https://leonteachers.org/event/lcs-sustainability-committee-meeting/
END:VEVENT
BEGIN:VEVENT
DTSTART;VALUE=DATE:20260119
DTEND;VALUE=DATE:20260120
DTSTAMP:20260424T151448
CREATED:20260114T151618Z
LAST-MODIFIED:20260114T151618Z
UID:3695-1768780800-1768867199@leonteachers.org
SUMMARY:MLK Jr. Day
DESCRIPTION:School Closed
URL:https://leonteachers.org/event/mlk-jr-day/
END:VEVENT
BEGIN:VEVENT
DTSTART;TZID=UTC:20260120T170000
DTEND;TZID=UTC:20260120T170000
DTSTAMP:20260424T151448
CREATED:20260114T012134Z
LAST-MODIFIED:20260114T012134Z
UID:3657-1768928400-1768928400@leonteachers.org
SUMMARY:Building Rep Meeting
DESCRIPTION:
URL:https://leonteachers.org/event/building-rep-meeting/
LOCATION:BBSU-LCTA\, 2655 Capital Circle NE Suite#8 Tallahassee\,Florida 32308\, Tallahassee\, FL\, 32308\, United States
END:VEVENT
BEGIN:VEVENT
DTSTART;TZID=America/New_York:20260120T173000
DTEND;TZID=America/New_York:20260120T183000
DTSTAMP:20260424T151448
CREATED:20260114T180839Z
LAST-MODIFIED:20260114T180839Z
UID:3754-1768930200-1768933800@leonteachers.org
SUMMARY:FEA Power Hour
DESCRIPTION:Contact Scott.Mazur@floridaea.org for a registration link.
URL:https://leonteachers.org/event/fea-power-hour/
END:VEVENT
BEGIN:VEVENT
DTSTART;TZID=America/New_York:20260126T090000
DTEND;TZID=America/New_York:20260126T143000
DTSTAMP:20260424T151448
CREATED:20260114T151714Z
LAST-MODIFIED:20260114T151714Z
UID:3697-1769418000-1769437800@leonteachers.org
SUMMARY:LCSB Annual Retreat
DESCRIPTION:
URL:https://leonteachers.org/event/lcsb-annual-retreat/
LOCATION:Aquilina Howell Center\, 3955 W Pensacola St\, Tallahassee\, FL\, 32304
END:VEVENT
BEGIN:VEVENT
DTSTART;TZID=America/New_York:20260126T150000
DTEND;TZID=America/New_York:20260126T170000
DTSTAMP:20260424T151448
CREATED:20260114T151849Z
LAST-MODIFIED:20260114T151849Z
UID:3699-1769439600-1769446800@leonteachers.org
SUMMARY:LCSB Agenda Review
DESCRIPTION:
URL:https://leonteachers.org/event/lcsb-agenda-review-2/
LOCATION:Aquilina Howell Center\, 3955 W Pensacola St\, Tallahassee\, FL\, 32304
END:VEVENT
BEGIN:VEVENT
DTSTART;TZID=America/New_York:20260127T173000
DTEND;TZID=America/New_York:20260127T183000
DTSTAMP:20260424T151448
CREATED:20260114T180923Z
LAST-MODIFIED:20260114T180923Z
UID:3756-1769535000-1769538600@leonteachers.org
SUMMARY:FEA Power Hour
DESCRIPTION:Contact Scott.Mazur@floridaea.org for a registration link.
URL:https://leonteachers.org/event/fea-power-hour-2/
END:VEVENT
BEGIN:VEVENT
DTSTART;TZID=America/New_York:20260127T180000
DTEND;TZID=America/New_York:20260127T200000
DTSTAMP:20260424T151448
CREATED:20260114T152410Z
LAST-MODIFIED:20260114T175550Z
UID:3701-1769536800-1769544000@leonteachers.org
SUMMARY:LCSB Meeting
DESCRIPTION:
URL:https://leonteachers.org/event/lcsb-meeting-22/
LOCATION:Aquilina Howell Center\, 3955 W Pensacola St\, Tallahassee\, FL\, 32304
END:VEVENT
BEGIN:VEVENT
DTSTART;VALUE=DATE:20260130
DTEND;VALUE=DATE:20260131
DTSTAMP:20260424T151448
CREATED:20260114T150929Z
LAST-MODIFIED:20260114T150929Z
UID:3684-1769731200-1769817599@leonteachers.org
SUMMARY:Nominations for Office Closed
DESCRIPTION:
URL:https://leonteachers.org/event/nominations-for-office-closed/
END:VEVENT
END:VCALENDAR