BEGIN:VCALENDAR
VERSION:2.0
PRODID:-//Leon Classroom Teachers Association - ECPv6.15.20//NONSGML v1.0//EN
CALSCALE:GREGORIAN
METHOD:PUBLISH
X-WR-CALNAME:Leon Classroom Teachers Association
X-ORIGINAL-URL:https://leonteachers.org
X-WR-CALDESC:Events for Leon Classroom Teachers Association
REFRESH-INTERVAL;VALUE=DURATION:PT1H
X-Robots-Tag:noindex
X-PUBLISHED-TTL:PT1H
BEGIN:VTIMEZONE
TZID:UTC
BEGIN:STANDARD
TZOFFSETFROM:+0000
TZOFFSETTO:+0000
TZNAME:UTC
DTSTART:20240101T000000
END:STANDARD
END:VTIMEZONE
BEGIN:VEVENT
DTSTART;VALUE=DATE:20251201
DTEND;VALUE=DATE:20251206
DTSTAMP:20260424T164358
CREATED:20251107T212244Z
LAST-MODIFIED:20251107T212244Z
UID:3628-1764547200-1764979199@leonteachers.org
SUMMARY:Work the Contract Week
DESCRIPTION:
URL:https://leonteachers.org/event/work-the-contract-week/
END:VEVENT
BEGIN:VEVENT
DTSTART;VALUE=DATE:20251201
DTEND;VALUE=DATE:20251202
DTSTAMP:20260424T164358
CREATED:20251107T212315Z
LAST-MODIFIED:20251107T212315Z
UID:3630-1764547200-1764633599@leonteachers.org
SUMMARY:Kickoff!
DESCRIPTION:
URL:https://leonteachers.org/event/kickoff/
END:VEVENT
BEGIN:VEVENT
DTSTART;VALUE=DATE:20251202
DTEND;VALUE=DATE:20251203
DTSTAMP:20260424T164358
CREATED:20251107T212336Z
LAST-MODIFIED:20251107T212336Z
UID:3632-1764633600-1764719999@leonteachers.org
SUMMARY:Family Day
DESCRIPTION:
URL:https://leonteachers.org/event/family-day/
END:VEVENT
BEGIN:VEVENT
DTSTART;TZID=UTC:20251202T170000
DTEND;TZID=UTC:20251202T180000
DTSTAMP:20260424T164358
CREATED:20250707T203243Z
LAST-MODIFIED:20250707T203243Z
UID:3468-1764694800-1764698400@leonteachers.org
SUMMARY:LCTA BOD Meeting
DESCRIPTION:
URL:https://leonteachers.org/event/lcta-bod-meeting-38/
LOCATION:LCTA Office\, 2655 Capital Cir NE # 8\, Tallahassee\, FL\, 32308\, United States
END:VEVENT
BEGIN:VEVENT
DTSTART;VALUE=DATE:20251203
DTEND;VALUE=DATE:20251204
DTSTAMP:20260424T164358
CREATED:20251107T212400Z
LAST-MODIFIED:20251107T212430Z
UID:3634-1764720000-1764806399@leonteachers.org
SUMMARY:All-Staff Day
DESCRIPTION:
URL:https://leonteachers.org/event/all-staff-day/
END:VEVENT
BEGIN:VEVENT
DTSTART;VALUE=DATE:20251204
DTEND;VALUE=DATE:20251205
DTSTAMP:20260424T164358
CREATED:20251107T212509Z
LAST-MODIFIED:20251107T212509Z
UID:3636-1764806400-1764892799@leonteachers.org
SUMMARY:Educator for a Day
DESCRIPTION:
URL:https://leonteachers.org/event/educator-for-a-day/
END:VEVENT
BEGIN:VEVENT
DTSTART;TZID=UTC:20251204T180000
DTEND;TZID=UTC:20251204T200000
DTSTAMP:20260424T164358
CREATED:20250922T222949Z
LAST-MODIFIED:20250922T222949Z
UID:3597-1764871200-1764878400@leonteachers.org
SUMMARY:DAC Meeting
DESCRIPTION:District Advisory Council Meeting
URL:https://leonteachers.org/event/dac-meeting-4/
END:VEVENT
BEGIN:VEVENT
DTSTART;VALUE=DATE:20251205
DTEND;VALUE=DATE:20251206
DTSTAMP:20260424T164358
CREATED:20251107T212631Z
LAST-MODIFIED:20251107T212631Z
UID:3638-1764892800-1764979199@leonteachers.org
SUMMARY:Student Celebration
DESCRIPTION:
URL:https://leonteachers.org/event/student-celebration/
END:VEVENT
BEGIN:VEVENT
DTSTART;TZID=UTC:20251208T160000
DTEND;TZID=UTC:20251208T170000
DTSTAMP:20260424T164358
CREATED:20250922T224950Z
LAST-MODIFIED:20250922T225009Z
UID:3603-1765209600-1765213200@leonteachers.org
SUMMARY:LCTA Membership Meeting
DESCRIPTION:This meeting provides an opportunity for members to share ideas\, offer input\, and contribute to shaping the direction of our membership recruitment\, engagement\, and retention efforts. Your voice and insight are essential as we work together to strengthen our union.\nMeeting Details\n🕓 Time: 4:00 PM\n💻 Location: Zoom (https://floridaea.zoom.us/j/82339194634)\n\n\n\nfloridaea.zoom.us
URL:https://leonteachers.org/event/membership-meeting-2/
END:VEVENT
BEGIN:VEVENT
DTSTART;TZID=UTC:20251209T170000
DTEND;TZID=UTC:20251209T180000
DTSTAMP:20260424T164358
CREATED:20250707T203340Z
LAST-MODIFIED:20250707T203340Z
UID:3470-1765299600-1765303200@leonteachers.org
SUMMARY:LCTA Representative Meeting
DESCRIPTION:
URL:https://leonteachers.org/event/lcta-representative-meeting-13/
LOCATION:LCTA Office\, 2655 Capital Cir NE # 8\, Tallahassee\, FL\, 32308\, United States
END:VEVENT
BEGIN:VEVENT
DTSTART;TZID=UTC:20251209T170000
DTEND;TZID=UTC:20251209T200000
DTSTAMP:20260424T164358
CREATED:20250922T222813Z
LAST-MODIFIED:20250922T222813Z
UID:3594-1765299600-1765310400@leonteachers.org
SUMMARY:HOLIDAY GATHERING
DESCRIPTION:
URL:https://leonteachers.org/event/holiday-gathering/
END:VEVENT
BEGIN:VEVENT
DTSTART;VALUE=DATE:20251219
DTEND;VALUE=DATE:20251220
DTSTAMP:20260424T164358
CREATED:20250707T203039Z
LAST-MODIFIED:20250707T203039Z
UID:3462-1766102400-1766188799@leonteachers.org
SUMMARY:End of 2nd 9 Weeks
DESCRIPTION:
URL:https://leonteachers.org/event/end-of-2nd-9-weeks-2/
END:VEVENT
BEGIN:VEVENT
DTSTART;VALUE=DATE:20251222
DTEND;VALUE=DATE:20251227
DTSTAMP:20260424T164358
CREATED:20250707T203114Z
LAST-MODIFIED:20250707T203114Z
UID:3464-1766361600-1766793599@leonteachers.org
SUMMARY:NO SCHOOL
DESCRIPTION:
URL:https://leonteachers.org/event/no-school-3/
END:VEVENT
BEGIN:VEVENT
DTSTART;VALUE=DATE:20251229
DTEND;VALUE=DATE:20260103
DTSTAMP:20260424T164358
CREATED:20250707T203139Z
LAST-MODIFIED:20250707T203201Z
UID:3466-1766966400-1767398399@leonteachers.org
SUMMARY:NO SCHOOL
DESCRIPTION:
URL:https://leonteachers.org/event/no-school-4/
END:VEVENT
END:VCALENDAR