BEGIN:VCALENDAR
VERSION:2.0
PRODID:-//Leon Classroom Teachers Association - ECPv6.15.20//NONSGML v1.0//EN
CALSCALE:GREGORIAN
METHOD:PUBLISH
X-ORIGINAL-URL:https://leonteachers.org
X-WR-CALDESC:Events for Leon Classroom Teachers Association
REFRESH-INTERVAL;VALUE=DURATION:PT1H
X-Robots-Tag:noindex
X-PUBLISHED-TTL:PT1H
BEGIN:VTIMEZONE
TZID:UTC
BEGIN:STANDARD
TZOFFSETFROM:+0000
TZOFFSETTO:+0000
TZNAME:UTC
DTSTART:20240101T000000
END:STANDARD
END:VTIMEZONE
BEGIN:VEVENT
DTSTART;TZID=UTC:20251104T170000
DTEND;TZID=UTC:20251104T180000
DTSTAMP:20260424T182003
CREATED:20250707T202916Z
LAST-MODIFIED:20250707T202916Z
UID:3458-1762275600-1762279200@leonteachers.org
SUMMARY:LCTA BOD Meeting
DESCRIPTION:
URL:https://leonteachers.org/event/lcta-bod-meeting-37/
LOCATION:LCTA Office\, 2655 Capital Cir NE # 8\, Tallahassee\, FL\, 32308\, United States
END:VEVENT
BEGIN:VEVENT
DTSTART;TZID=UTC:20251106T180000
DTEND;TZID=UTC:20251106T200000
DTSTAMP:20260424T182003
CREATED:20250922T222412Z
LAST-MODIFIED:20250922T222412Z
UID:3584-1762452000-1762459200@leonteachers.org
SUMMARY:DAC Meeting
DESCRIPTION:District Advisory Council
URL:https://leonteachers.org/event/dac-meeting-2/
LOCATION:Aquilina Howell Center\, 3955 W Pensacola St\, Tallahassee\, FL\, 32304
END:VEVENT
BEGIN:VEVENT
DTSTART;TZID=UTC:20251110T160000
DTEND;TZID=UTC:20251110T170000
DTSTAMP:20260424T182003
CREATED:20250922T224852Z
LAST-MODIFIED:20250922T224852Z
UID:3601-1762790400-1762794000@leonteachers.org
SUMMARY:LCTA Membership Meeting
DESCRIPTION:This meeting provides an opportunity for members to share ideas\, offer input\, and contribute to shaping the direction of our membership recruitment\, engagement\, and retention efforts. Your voice and insight are essential as we work together to strengthen our union.\nMeeting Details\n🕓 Time: 4:00 PM\n💻 Location: Zoom (https://floridaea.zoom.us/j/82339194634)\n\n\n\nfloridaea.zoom.us
URL:https://leonteachers.org/event/lcta-membership-meeting-2/
END:VEVENT
BEGIN:VEVENT
DTSTART;VALUE=DATE:20251111
DTEND;VALUE=DATE:20251112
DTSTAMP:20260424T182003
CREATED:20250707T202628Z
LAST-MODIFIED:20250707T202628Z
UID:3452-1762819200-1762905599@leonteachers.org
SUMMARY:Veterans Day (NO SCHOOL)
DESCRIPTION:
URL:https://leonteachers.org/event/veterans-day-no-school-3/
END:VEVENT
BEGIN:VEVENT
DTSTART;VALUE=DATE:20251112
DTEND;VALUE=DATE:20251113
DTSTAMP:20260424T182003
CREATED:20250922T222447Z
LAST-MODIFIED:20250922T222447Z
UID:3586-1762905600-1762991999@leonteachers.org
SUMMARY:Progress Reports Go Home
DESCRIPTION:
URL:https://leonteachers.org/event/progress-reports-go-home/
END:VEVENT
BEGIN:VEVENT
DTSTART;TZID=UTC:20251112T163000
DTEND;TZID=UTC:20251112T180000
DTSTAMP:20260424T182003
CREATED:20251107T211415Z
LAST-MODIFIED:20251107T211415Z
UID:3618-1762965000-1762970400@leonteachers.org
SUMMARY:LCTA Rep Materials Pick Up - Afternoon
DESCRIPTION:Representatives will stop by the office to pick up their American Education Week materials.
URL:https://leonteachers.org/event/lcta-rep-materials-pick-up-afternoon/
LOCATION:Aquilina Howell Center\, 3955 W Pensacola St\, Tallahassee\, FL\, 32304
END:VEVENT
BEGIN:VEVENT
DTSTART;TZID=UTC:20251112T170000
DTEND;TZID=UTC:20251112T190000
DTSTAMP:20260424T182003
CREATED:20251107T211518Z
LAST-MODIFIED:20251107T211518Z
UID:3620-1762966800-1762974000@leonteachers.org
SUMMARY:LCTA & LCS Bargaining: BE THERE
DESCRIPTION:
URL:https://leonteachers.org/event/lcta-lcs-bargaining-be-there/
LOCATION:Aquilina Howell Center\, 3955 W Pensacola St\, Tallahassee\, FL\, 32304
END:VEVENT
BEGIN:VEVENT
DTSTART;TZID=UTC:20251113T170000
DTEND;TZID=UTC:20251113T170000
DTSTAMP:20260424T182003
CREATED:20251107T211753Z
LAST-MODIFIED:20251107T211753Z
UID:3622-1763053200-1763053200@leonteachers.org
SUMMARY:Virtual LCTA Representative Meeting
DESCRIPTION:
URL:https://leonteachers.org/event/virtual-lcta-representative-meeting/
LOCATION:Zoom – Webinar\, Register in Advance
END:VEVENT
BEGIN:VEVENT
DTSTART;VALUE=DATE:20251117
DTEND;VALUE=DATE:20251122
DTSTAMP:20260424T182003
CREATED:20251107T212215Z
LAST-MODIFIED:20251107T212215Z
UID:3626-1763337600-1763769599@leonteachers.org
SUMMARY:American Education Week
DESCRIPTION:
URL:https://leonteachers.org/event/american-education-week/
END:VEVENT
BEGIN:VEVENT
DTSTART;TZID=UTC:20251117T150000
DTEND;TZID=UTC:20251117T170000
DTSTAMP:20260424T182003
CREATED:20250922T222535Z
LAST-MODIFIED:20250922T222535Z
UID:3588-1763391600-1763398800@leonteachers.org
SUMMARY:LCSB Workshop
DESCRIPTION:https://cloud.castus.tv/vod/leon/video/6206e889c888ac00082e5b9d?page=HOME&type=live
URL:https://leonteachers.org/event/lcsb-workshop-4/
LOCATION:Aquilina Howell Center\, 3955 W Pensacola St\, Tallahassee\, FL\, 32304
END:VEVENT
BEGIN:VEVENT
DTSTART;VALUE=DATE:20251118
DTEND;VALUE=DATE:20251119
DTSTAMP:20260424T182003
CREATED:20251107T212124Z
LAST-MODIFIED:20251107T212124Z
UID:3624-1763424000-1763510399@leonteachers.org
SUMMARY:DAY OF ACTION: American Education Week
DESCRIPTION:Sticker\nPhotos\n\n\n 1/4 sheet\n\nThankful for…\nWish for American Education…\n\n\nPractice Walk-In/Walk-Out\nSecure Connectors
URL:https://leonteachers.org/event/day-of-action-american-education-week/
END:VEVENT
BEGIN:VEVENT
DTSTART;TZID=UTC:20251118T170000
DTEND;TZID=UTC:20251118T180000
DTSTAMP:20260424T182003
CREATED:20250707T202954Z
LAST-MODIFIED:20250707T202954Z
UID:3460-1763485200-1763488800@leonteachers.org
SUMMARY:LCTA Representative Meeting
DESCRIPTION:
URL:https://leonteachers.org/event/lcta-representative-meeting-12/
LOCATION:LCTA Office\, 2655 Capital Cir NE # 8\, Tallahassee\, FL\, 32308\, United States
END:VEVENT
BEGIN:VEVENT
DTSTART;TZID=UTC:20251118T180000
DTEND;TZID=UTC:20251118T193000
DTSTAMP:20260424T182003
CREATED:20250922T222622Z
LAST-MODIFIED:20250922T222622Z
UID:3590-1763488800-1763494200@leonteachers.org
SUMMARY:LCSB Meeting
DESCRIPTION:https://cloud.castus.tv/vod/leon/video/6206e889c888ac00082e5b9d?page=HOME&type=live
URL:https://leonteachers.org/event/lcsb-meeting-20/
LOCATION:Aquilina Howell Center\, 3955 W Pensacola St\, Tallahassee\, FL\, 32304
END:VEVENT
BEGIN:VEVENT
DTSTART;VALUE=DATE:20251124
DTEND;VALUE=DATE:20251129
DTSTAMP:20260424T182003
CREATED:20250707T202804Z
LAST-MODIFIED:20250707T202804Z
UID:3454-1763942400-1764374399@leonteachers.org
SUMMARY:NO SCHOOL
DESCRIPTION:
URL:https://leonteachers.org/event/no-school-2/
END:VEVENT
BEGIN:VEVENT
DTSTART;VALUE=DATE:20251127
DTEND;VALUE=DATE:20251128
DTSTAMP:20260424T182003
CREATED:20250707T202825Z
LAST-MODIFIED:20250707T202825Z
UID:3456-1764201600-1764287999@leonteachers.org
SUMMARY:Thanksgiving Day
DESCRIPTION:
URL:https://leonteachers.org/event/thanksgiving-day-3/
END:VEVENT
END:VCALENDAR