BEGIN:VCALENDAR
VERSION:2.0
PRODID:-//Leon Classroom Teachers Association - ECPv6.15.20//NONSGML v1.0//EN
CALSCALE:GREGORIAN
METHOD:PUBLISH
X-WR-CALNAME:Leon Classroom Teachers Association
X-ORIGINAL-URL:https://leonteachers.org
X-WR-CALDESC:Events for Leon Classroom Teachers Association
REFRESH-INTERVAL;VALUE=DURATION:PT1H
X-Robots-Tag:noindex
X-PUBLISHED-TTL:PT1H
BEGIN:VTIMEZONE
TZID:UTC
BEGIN:STANDARD
TZOFFSETFROM:+0000
TZOFFSETTO:+0000
TZNAME:UTC
DTSTART:20240101T000000
END:STANDARD
END:VTIMEZONE
BEGIN:VEVENT
DTSTART;VALUE=DATE:20250901
DTEND;VALUE=DATE:20250902
DTSTAMP:20260424T211801
CREATED:20250707T202146Z
LAST-MODIFIED:20250707T202146Z
UID:3440-1756684800-1756771199@leonteachers.org
SUMMARY:Labor Day ( NO SCHOOL)
DESCRIPTION:
URL:https://leonteachers.org/event/labor-day-no-school-2/
END:VEVENT
BEGIN:VEVENT
DTSTART;TZID=UTC:20250902T170000
DTEND;TZID=UTC:20250902T180000
DTSTAMP:20260424T211801
CREATED:20250707T200515Z
LAST-MODIFIED:20250707T200515Z
UID:3434-1756832400-1756836000@leonteachers.org
SUMMARY:LCTA BOD Meeting
DESCRIPTION:
URL:https://leonteachers.org/event/lcta-bod-meeting-35/
LOCATION:LCTA Office\, 2655 Capital Cir NE # 8\, Tallahassee\, FL\, 32308\, United States
END:VEVENT
BEGIN:VEVENT
DTSTART;TZID=UTC:20250916T170000
DTEND;TZID=UTC:20250916T180000
DTSTAMP:20260424T211801
CREATED:20250707T200601Z
LAST-MODIFIED:20250707T200601Z
UID:3436-1758042000-1758045600@leonteachers.org
SUMMARY:LCTA Representative Meeting
DESCRIPTION:
URL:https://leonteachers.org/event/lcta-representative-meeting-10/
LOCATION:LCTA Office\, 2655 Capital Cir NE # 8\, Tallahassee\, FL\, 32308\, United States
END:VEVENT
BEGIN:VEVENT
DTSTART;TZID=UTC:20250922T150000
DTEND;TZID=UTC:20250922T170000
DTSTAMP:20260424T211801
CREATED:20250922T213735Z
LAST-MODIFIED:20250922T213735Z
UID:3562-1758553200-1758560400@leonteachers.org
SUMMARY:LCSB Workshop
DESCRIPTION:Streaming: https://cloud.castus.tv/vod/leon/video/6206e889c888ac00082e5b9d?page=HOME&type=live
URL:https://leonteachers.org/event/lcsb-workshop/
LOCATION:Aquilina Howell Center\, 3955 W Pensacola St\, Tallahassee\, FL\, 32304
END:VEVENT
BEGIN:VEVENT
DTSTART;TZID=UTC:20250923T180000
DTEND;TZID=UTC:20250923T193000
DTSTAMP:20260424T211801
CREATED:20250922T213836Z
LAST-MODIFIED:20250922T213836Z
UID:3564-1758650400-1758655800@leonteachers.org
SUMMARY:LCSB Meeting
DESCRIPTION:Streaming: https://cloud.castus.tv/vod/leon/video/6206e889c888ac00082e5b9d?page=HOME&type=live
URL:https://leonteachers.org/event/lcsb-meeting-17/
LOCATION:Aquilina Howell Center\, 3955 W Pensacola St\, Tallahassee\, FL\, 32304
END:VEVENT
BEGIN:VEVENT
DTSTART;TZID=UTC:20250924T160000
DTEND;TZID=UTC:20250924T183000
DTSTAMP:20260424T211801
CREATED:20250922T213926Z
LAST-MODIFIED:20250922T213926Z
UID:3566-1758729600-1758738600@leonteachers.org
SUMMARY:Negotiations with LCS
DESCRIPTION:
URL:https://leonteachers.org/event/negotiations-with-lcs/
LOCATION:Aquilina Howell Center\, 3955 W Pensacola St\, Tallahassee\, FL\, 32304
END:VEVENT
END:VCALENDAR