BEGIN:VCALENDAR
VERSION:2.0
PRODID:-//Leon Classroom Teachers Association - ECPv6.15.20//NONSGML v1.0//EN
CALSCALE:GREGORIAN
METHOD:PUBLISH
X-ORIGINAL-URL:https://leonteachers.org
X-WR-CALDESC:Events for Leon Classroom Teachers Association
REFRESH-INTERVAL;VALUE=DURATION:PT1H
X-Robots-Tag:noindex
X-PUBLISHED-TTL:PT1H
BEGIN:VTIMEZONE
TZID:UTC
BEGIN:STANDARD
TZOFFSETFROM:+0000
TZOFFSETTO:+0000
TZNAME:UTC
DTSTART:20240101T000000
END:STANDARD
END:VTIMEZONE
BEGIN:VEVENT
DTSTART;TZID=UTC:20250805T170000
DTEND;TZID=UTC:20250805T180000
DTSTAMP:20260424T225158
CREATED:20250707T195911Z
LAST-MODIFIED:20250707T195911Z
UID:3430-1754413200-1754416800@leonteachers.org
SUMMARY:LCTA BOD Meeting
DESCRIPTION:
URL:https://leonteachers.org/event/lcta-bod-meeting-34/
LOCATION:LCTA Office\, 2655 Capital Cir NE # 8\, Tallahassee\, FL\, 32308\, United States
END:VEVENT
BEGIN:VEVENT
DTSTART;VALUE=DATE:20250811
DTEND;VALUE=DATE:20250812
DTSTAMP:20260424T225158
CREATED:20250707T200640Z
LAST-MODIFIED:20250707T200640Z
UID:3438-1754870400-1754956799@leonteachers.org
SUMMARY:First Day for Students
DESCRIPTION:
URL:https://leonteachers.org/event/first-day-for-students/
END:VEVENT
BEGIN:VEVENT
DTSTART;TZID=UTC:20250819T170000
DTEND;TZID=UTC:20250819T180000
DTSTAMP:20260424T225158
CREATED:20250707T200310Z
LAST-MODIFIED:20250707T200310Z
UID:3432-1755622800-1755626400@leonteachers.org
SUMMARY:LCTA Representative Meeting
DESCRIPTION:
URL:https://leonteachers.org/event/lcta-representative-meeting-9/
LOCATION:LCTA Office\, 2655 Capital Cir NE # 8\, Tallahassee\, FL\, 32308\, United States
END:VEVENT
END:VCALENDAR