BEGIN:VCALENDAR
VERSION:2.0
PRODID:-//Leon Classroom Teachers Association - ECPv6.15.20//NONSGML v1.0//EN
CALSCALE:GREGORIAN
METHOD:PUBLISH
X-WR-CALNAME:Leon Classroom Teachers Association
X-ORIGINAL-URL:https://leonteachers.org
X-WR-CALDESC:Events for Leon Classroom Teachers Association
REFRESH-INTERVAL;VALUE=DURATION:PT1H
X-Robots-Tag:noindex
X-PUBLISHED-TTL:PT1H
BEGIN:VTIMEZONE
TZID:America/New_York
BEGIN:DAYLIGHT
TZOFFSETFROM:-0500
TZOFFSETTO:-0400
TZNAME:EDT
DTSTART:20250309T070000
END:DAYLIGHT
BEGIN:STANDARD
TZOFFSETFROM:-0400
TZOFFSETTO:-0500
TZNAME:EST
DTSTART:20251102T060000
END:STANDARD
BEGIN:DAYLIGHT
TZOFFSETFROM:-0500
TZOFFSETTO:-0400
TZNAME:EDT
DTSTART:20260308T070000
END:DAYLIGHT
BEGIN:STANDARD
TZOFFSETFROM:-0400
TZOFFSETTO:-0500
TZNAME:EST
DTSTART:20261101T060000
END:STANDARD
BEGIN:DAYLIGHT
TZOFFSETFROM:-0500
TZOFFSETTO:-0400
TZNAME:EDT
DTSTART:20270314T070000
END:DAYLIGHT
BEGIN:STANDARD
TZOFFSETFROM:-0400
TZOFFSETTO:-0500
TZNAME:EST
DTSTART:20271107T060000
END:STANDARD
END:VTIMEZONE
BEGIN:VEVENT
DTSTART;TZID=America/New_York:20260210T173000
DTEND;TZID=America/New_York:20260210T183000
DTSTAMP:20260424T144531
CREATED:20260114T181022Z
LAST-MODIFIED:20260114T181022Z
UID:3760-1770744600-1770748200@leonteachers.org
SUMMARY:FEA Power Hour
DESCRIPTION:
URL:https://leonteachers.org/event/fea-power-hour-4/
END:VEVENT
BEGIN:VEVENT
DTSTART;TZID=America/New_York:20260210T180000
DTEND;TZID=America/New_York:20260210T200000
DTSTAMP:20260424T144531
CREATED:20260114T173456Z
LAST-MODIFIED:20260114T175617Z
UID:3705-1770746400-1770753600@leonteachers.org
SUMMARY:LCSB Meeting
DESCRIPTION:
URL:https://leonteachers.org/event/lcsb-meeting-23/
LOCATION:Aquilina Howell Center\, 3955 W Pensacola St\, Tallahassee\, FL\, 32304
END:VEVENT
END:VCALENDAR