BEGIN:VCALENDAR
VERSION:2.0
PRODID:-//Leon Classroom Teachers Association - ECPv6.15.20//NONSGML v1.0//EN
CALSCALE:GREGORIAN
METHOD:PUBLISH
X-ORIGINAL-URL:https://leonteachers.org
X-WR-CALDESC:Events for Leon Classroom Teachers Association
REFRESH-INTERVAL;VALUE=DURATION:PT1H
X-Robots-Tag:noindex
X-PUBLISHED-TTL:PT1H
BEGIN:VTIMEZONE
TZID:UTC
BEGIN:STANDARD
TZOFFSETFROM:+0000
TZOFFSETTO:+0000
TZNAME:UTC
DTSTART:20250101T000000
END:STANDARD
END:VTIMEZONE
BEGIN:VTIMEZONE
TZID:America/New_York
BEGIN:DAYLIGHT
TZOFFSETFROM:-0500
TZOFFSETTO:-0400
TZNAME:EDT
DTSTART:20250309T070000
END:DAYLIGHT
BEGIN:STANDARD
TZOFFSETFROM:-0400
TZOFFSETTO:-0500
TZNAME:EST
DTSTART:20251102T060000
END:STANDARD
BEGIN:DAYLIGHT
TZOFFSETFROM:-0500
TZOFFSETTO:-0400
TZNAME:EDT
DTSTART:20260308T070000
END:DAYLIGHT
BEGIN:STANDARD
TZOFFSETFROM:-0400
TZOFFSETTO:-0500
TZNAME:EST
DTSTART:20261101T060000
END:STANDARD
BEGIN:DAYLIGHT
TZOFFSETFROM:-0500
TZOFFSETTO:-0400
TZNAME:EDT
DTSTART:20270314T070000
END:DAYLIGHT
BEGIN:STANDARD
TZOFFSETFROM:-0400
TZOFFSETTO:-0500
TZNAME:EST
DTSTART:20271107T060000
END:STANDARD
END:VTIMEZONE
BEGIN:VEVENT
DTSTART;TZID=UTC:20260120T170000
DTEND;TZID=UTC:20260120T170000
DTSTAMP:20260424T164521
CREATED:20260114T012134Z
LAST-MODIFIED:20260114T012134Z
UID:3657-1768928400-1768928400@leonteachers.org
SUMMARY:Building Rep Meeting
DESCRIPTION:
URL:https://leonteachers.org/event/building-rep-meeting/
LOCATION:BBSU-LCTA\, 2655 Capital Circle NE Suite#8 Tallahassee\,Florida 32308\, Tallahassee\, FL\, 32308\, United States
END:VEVENT
BEGIN:VEVENT
DTSTART;TZID=America/New_York:20260120T173000
DTEND;TZID=America/New_York:20260120T183000
DTSTAMP:20260424T164521
CREATED:20260114T180839Z
LAST-MODIFIED:20260114T180839Z
UID:3754-1768930200-1768933800@leonteachers.org
SUMMARY:FEA Power Hour
DESCRIPTION:Contact Scott.Mazur@floridaea.org for a registration link.
URL:https://leonteachers.org/event/fea-power-hour/
END:VEVENT
END:VCALENDAR