BEGIN:VCALENDAR
VERSION:2.0
PRODID:-//Leon Classroom Teachers Association - ECPv6.15.20//NONSGML v1.0//EN
CALSCALE:GREGORIAN
METHOD:PUBLISH
X-WR-CALNAME:Leon Classroom Teachers Association
X-ORIGINAL-URL:https://leonteachers.org
X-WR-CALDESC:Events for Leon Classroom Teachers Association
REFRESH-INTERVAL;VALUE=DURATION:PT1H
X-Robots-Tag:noindex
X-PUBLISHED-TTL:PT1H
BEGIN:VTIMEZONE
TZID:UTC
BEGIN:STANDARD
TZOFFSETFROM:+0000
TZOFFSETTO:+0000
TZNAME:UTC
DTSTART:20240101T000000
END:STANDARD
END:VTIMEZONE
BEGIN:VEVENT
DTSTART;TZID=UTC:20251004T180000
DTEND;TZID=UTC:20251004T200000
DTSTAMP:20260424T211636
CREATED:20250922T222724Z
LAST-MODIFIED:20250922T222724Z
UID:3592-1759600800-1759608000@leonteachers.org
SUMMARY:DAC Meeting
DESCRIPTION:District Advisory Council Meeting
URL:https://leonteachers.org/event/dac-meeting-3/
LOCATION:Aquilina Howell Center\, 3955 W Pensacola St\, Tallahassee\, FL\, 32304
END:VEVENT
END:VCALENDAR