BEGIN:VCALENDAR
VERSION:2.0
PRODID:-//Leon Classroom Teachers Association - ECPv6.15.20//NONSGML v1.0//EN
CALSCALE:GREGORIAN
METHOD:PUBLISH
X-ORIGINAL-URL:https://leonteachers.org
X-WR-CALDESC:Events for Leon Classroom Teachers Association
REFRESH-INTERVAL;VALUE=DURATION:PT1H
X-Robots-Tag:noindex
X-PUBLISHED-TTL:PT1H
BEGIN:VTIMEZONE
TZID:UTC
BEGIN:STANDARD
TZOFFSETFROM:+0000
TZOFFSETTO:+0000
TZNAME:UTC
DTSTART:20240101T000000
END:STANDARD
END:VTIMEZONE
BEGIN:VEVENT
DTSTART;TZID=UTC:20250730T080000
DTEND;TZID=UTC:20250730T160000
DTSTAMP:20260425T001527
CREATED:20250707T195537Z
LAST-MODIFIED:20250707T205050Z
UID:3426-1753862400-1753891200@leonteachers.org
SUMMARY:Rep Back to School Event
DESCRIPTION:Complete the RSVP link to attend. https://forms.gle/MTffuQeb8sLrHx3G8 \nLocation: Lively Technical College
URL:https://leonteachers.org/event/rep-back-to-school-event/
LOCATION:Lively Technical College\, 500 Appleyard Drive\, Tallahassee\, FL\, 32304
END:VEVENT
END:VCALENDAR